Package: SpacePAC Version: 1.44.0 Command: /Library/Frameworks/R.framework/Resources/bin/R CMD build --keep-empty-dirs --no-resave-data SpacePAC StartedAt: 2025-04-01 08:13:29 -0400 (Tue, 01 Apr 2025) EndedAt: 2025-04-01 08:14:37 -0400 (Tue, 01 Apr 2025) EllapsedTime: 67.3 seconds RetCode: 0 Status: OK PackageFile: SpacePAC_1.44.0.tar.gz PackageFileSize: 1.889 MiB