Package: SpaceMarkers Version: 1.2.1 Command: /home/biocbuild/bbs-3.20-bioc/R/bin/R CMD INSTALL SpaceMarkers StartedAt: 2024-11-19 17:12:19 -0500 (Tue, 19 Nov 2024) EndedAt: 2024-11-19 17:12:27 -0500 (Tue, 19 Nov 2024) EllapsedTime: 8.1 seconds RetCode: 0 Status: OK