Package: SpaceMarkers Version: 1.2.1 Command: /home/biocbuild/bbs-3.20-bioc/R/bin/R CMD check --install=check:SpaceMarkers.install-out.txt --library=/home/biocbuild/bbs-3.20-bioc/R/site-library --timings SpaceMarkers_1.2.1.tar.gz StartedAt: 2024-11-20 09:58:35 -0500 (Wed, 20 Nov 2024) EndedAt: 2024-11-20 10:01:15 -0500 (Wed, 20 Nov 2024) EllapsedTime: 160.1 seconds RetCode: 0 Status: OK CheckDir: SpaceMarkers.Rcheck Warnings: 0