Package: SpaceMarkers Version: 1.2.1 Command: /home/biocbuild/R/R/bin/R CMD INSTALL SpaceMarkers StartedAt: 2025-03-31 21:11:28 -0000 (Mon, 31 Mar 2025) EndedAt: 2025-03-31 21:11:41 -0000 (Mon, 31 Mar 2025) EllapsedTime: 13.2 seconds RetCode: 0 Status: OK