Package: SpaceMarkers Version: 1.2.1 Command: /home/biocbuild/R/R/bin/R CMD check --install=check:SpaceMarkers.install-out.txt --library=/home/biocbuild/R/R/site-library --no-vignettes --timings SpaceMarkers_1.2.1.tar.gz StartedAt: 2025-01-31 10:36:05 -0000 (Fri, 31 Jan 2025) EndedAt: 2025-01-31 10:39:53 -0000 (Fri, 31 Jan 2025) EllapsedTime: 228.2 seconds RetCode: 0 Status: OK CheckDir: SpaceMarkers.Rcheck Warnings: 0