Package: SpaceMarkers Version: 1.2.1 Command: /home/biocbuild/R/R/bin/R CMD build --keep-empty-dirs --no-resave-data SpaceMarkers StartedAt: 2025-01-31 02:50:47 -0000 (Fri, 31 Jan 2025) EndedAt: 2025-01-31 02:53:09 -0000 (Fri, 31 Jan 2025) EllapsedTime: 142.1 seconds RetCode: 0 Status: OK PackageFile: SpaceMarkers_1.2.1.tar.gz PackageFileSize: 2.212 MiB