Package: SpaceMarkers Version: 1.2.1 Command: chmod a+r SpaceMarkers -R && F:\biocbuild\bbs-3.20-bioc\R\bin\R.exe CMD build --keep-empty-dirs --no-resave-data SpaceMarkers StartedAt: 2025-03-31 22:02:22 -0400 (Mon, 31 Mar 2025) EndedAt: 2025-03-31 22:05:55 -0400 (Mon, 31 Mar 2025) EllapsedTime: 212.6 seconds RetCode: 0 Status: OK PackageFile: SpaceMarkers_1.2.1.tar.gz PackageFileSize: 2.904 MiB