Package: SpaceMarkers Version: 1.2.1 Command: /Library/Frameworks/R.framework/Resources/bin/R CMD INSTALL SpaceMarkers StartedAt: 2025-02-03 16:51:18 -0500 (Mon, 03 Feb 2025) EndedAt: 2025-02-03 16:51:42 -0500 (Mon, 03 Feb 2025) EllapsedTime: 24.5 seconds RetCode: 0 Status: OK