Package: SpaceMarkers Version: 1.2.1 Command: /Library/Frameworks/R.framework/Resources/bin/R CMD build --keep-empty-dirs --no-resave-data SpaceMarkers StartedAt: 2025-02-03 22:29:53 -0500 (Mon, 03 Feb 2025) EndedAt: 2025-02-03 22:33:01 -0500 (Mon, 03 Feb 2025) EllapsedTime: 188.0 seconds RetCode: 0 Status: OK PackageFile: SpaceMarkers_1.2.1.tar.gz PackageFileSize: 3.2 MiB