Package: SpaceMarkers Version: 1.2.1 Command: rm -rf SpaceMarkers.buildbin-libdir && mkdir SpaceMarkers.buildbin-libdir && /Users/biocbuild/BBS/utils/build-universal.sh SpaceMarkers_1.2.1.tar.gz /Library/Frameworks/R.framework/Resources/bin/R SpaceMarkers.buildbin-libdir StartedAt: 2025-04-02 16:26:10 -0400 (Wed, 02 Apr 2025) EndedAt: 2025-04-02 16:26:25 -0400 (Wed, 02 Apr 2025) EllapsedTime: 14.9 seconds RetCode: 0 Status: OK PackageFile: SpaceMarkers_1.2.1.tgz PackageFileSize: 3.158 MiB