Package: SpaNorm Version: 1.0.0 Command: /Library/Frameworks/R.framework/Resources/bin/R CMD build --keep-empty-dirs --no-resave-data SpaNorm StartedAt: 2025-02-03 22:30:24 -0500 (Mon, 03 Feb 2025) EndedAt: 2025-02-03 22:41:51 -0500 (Mon, 03 Feb 2025) EllapsedTime: 686.8 seconds RetCode: 0 Status: OK PackageFile: SpaNorm_1.0.0.tar.gz PackageFileSize: 7.477 MiB