Package: SpaNorm Version: 1.0.0 Command: rm -rf SpaNorm.buildbin-libdir && mkdir SpaNorm.buildbin-libdir && /Users/biocbuild/BBS/utils/build-universal.sh SpaNorm_1.0.0.tar.gz /Library/Frameworks/R.framework/Resources/bin/R SpaNorm.buildbin-libdir StartedAt: 2025-01-31 13:45:33 -0500 (Fri, 31 Jan 2025) EndedAt: 2025-01-31 13:45:43 -0500 (Fri, 31 Jan 2025) EllapsedTime: 9.6 seconds RetCode: 0 Status: OK PackageFile: SpaNorm_1.0.0.tgz PackageFileSize: 6.991 MiB