Package: SomaticSignatures Version: 2.42.0 Command: F:\biocbuild\bbs-3.20-bioc\R\bin\R.exe CMD INSTALL SomaticSignatures StartedAt: 2025-03-31 16:19:44 -0400 (Mon, 31 Mar 2025) EndedAt: 2025-03-31 16:21:55 -0400 (Mon, 31 Mar 2025) EllapsedTime: 131.2 seconds RetCode: 0 Status: OK