Package: SingleR Version: 2.8.0 Command: /home/biocbuild/R/R/bin/R CMD build --keep-empty-dirs --no-resave-data SingleR StartedAt: 2024-11-20 04:02:18 -0000 (Wed, 20 Nov 2024) EndedAt: 2024-11-20 04:05:04 -0000 (Wed, 20 Nov 2024) EllapsedTime: 166.2 seconds RetCode: 0 Status: OK PackageFile: SingleR_2.8.0.tar.gz PackageFileSize: 552.8 KiB