Package: SingleR Version: 2.8.0 Command: /Library/Frameworks/R.framework/Resources/bin/R CMD INSTALL SingleR StartedAt: 2025-01-27 17:50:57 -0500 (Mon, 27 Jan 2025) EndedAt: 2025-01-27 17:51:57 -0500 (Mon, 27 Jan 2025) EllapsedTime: 60.0 seconds RetCode: 0 Status: OK