Package: SingleR Version: 2.8.0 Command: rm -rf SingleR.buildbin-libdir && mkdir SingleR.buildbin-libdir && /Users/biocbuild/BBS/utils/build-universal.sh SingleR_2.8.0.tar.gz /Library/Frameworks/R.framework/Resources/bin/R SingleR.buildbin-libdir StartedAt: 2025-01-29 16:40:00 -0500 (Wed, 29 Jan 2025) EndedAt: 2025-01-29 16:41:07 -0500 (Wed, 29 Jan 2025) EllapsedTime: 66.9 seconds RetCode: 0 Status: OK PackageFile: SingleR_2.8.0.tgz PackageFileSize: 963.7 KiB