Package: SingleMoleculeFootprinting Version: 2.0.0 Command: F:\biocbuild\bbs-3.20-bioc\R\bin\R.exe CMD INSTALL SingleMoleculeFootprinting StartedAt: 2025-01-27 16:32:55 -0500 (Mon, 27 Jan 2025) EndedAt: 2025-01-27 16:38:46 -0500 (Mon, 27 Jan 2025) EllapsedTime: 351.4 seconds RetCode: 0 Status: OK