Package: SingleMoleculeFootprinting Version: 2.0.0 Command: chmod a+r SingleMoleculeFootprinting -R && F:\biocbuild\bbs-3.20-bioc\R\bin\R.exe CMD build --keep-empty-dirs --no-resave-data SingleMoleculeFootprinting StartedAt: 2025-01-27 22:01:05 -0500 (Mon, 27 Jan 2025) EndedAt: 2025-01-27 22:05:07 -0500 (Mon, 27 Jan 2025) EllapsedTime: 241.9 seconds RetCode: 0 Status: OK PackageFile: SingleMoleculeFootprinting_2.0.0.tar.gz PackageFileSize: 3.047 MiB