Package: SingleMoleculeFootprinting Version: 2.0.0 Command: /Library/Frameworks/R.framework/Resources/bin/R CMD check --install=check:SingleMoleculeFootprinting.install-out.txt --library=/Library/Frameworks/R.framework/Resources/library --no-vignettes --timings SingleMoleculeFootprinting_2.0.0.tar.gz StartedAt: 2025-01-28 10:26:22 -0500 (Tue, 28 Jan 2025) EndedAt: 2025-01-28 10:38:53 -0500 (Tue, 28 Jan 2025) EllapsedTime: 751.7 seconds RetCode: 0 Status: WARNINGS CheckDir: SingleMoleculeFootprinting.Rcheck Warnings: 1