Package: SingleMoleculeFootprinting Version: 2.0.0 Command: /Library/Frameworks/R.framework/Resources/bin/R CMD INSTALL SingleMoleculeFootprinting StartedAt: 2025-01-27 16:42:03 -0500 (Mon, 27 Jan 2025) EndedAt: 2025-01-27 16:43:02 -0500 (Mon, 27 Jan 2025) EllapsedTime: 59.1 seconds RetCode: 0 Status: OK