Package: SingleCellSignalR Version: 1.18.0 Command: /home/biocbuild/R/R/bin/R CMD INSTALL SingleCellSignalR StartedAt: 2025-02-03 21:17:26 -0000 (Mon, 03 Feb 2025) EndedAt: 2025-02-03 21:18:15 -0000 (Mon, 03 Feb 2025) EllapsedTime: 48.6 seconds RetCode: 0 Status: OK