Package: SingleCellSignalR Version: 1.18.0 Command: /home/biocbuild/R/R/bin/R CMD check --install=check:SingleCellSignalR.install-out.txt --library=/home/biocbuild/R/R/site-library --no-vignettes --timings SingleCellSignalR_1.18.0.tar.gz StartedAt: 2025-02-11 10:30:35 -0000 (Tue, 11 Feb 2025) EndedAt: 2025-02-11 10:34:50 -0000 (Tue, 11 Feb 2025) EllapsedTime: 255.4 seconds RetCode: 0 Status: WARNINGS CheckDir: SingleCellSignalR.Rcheck Warnings: 2