Package: SingleCellSignalR Version: 1.18.0 Command: /Library/Frameworks/R.framework/Resources/bin/R CMD check --install=check:SingleCellSignalR.install-out.txt --library=/Library/Frameworks/R.framework/Resources/library --no-vignettes --timings SingleCellSignalR_1.18.0.tar.gz StartedAt: 2025-04-01 09:18:08 -0400 (Tue, 01 Apr 2025) EndedAt: 2025-04-01 09:25:34 -0400 (Tue, 01 Apr 2025) EllapsedTime: 446.0 seconds RetCode: 0 Status: WARNINGS CheckDir: SingleCellSignalR.Rcheck Warnings: 2