Package: SingleCellSignalR Version: 1.18.0 Command: /Library/Frameworks/R.framework/Resources/bin/R CMD INSTALL SingleCellSignalR StartedAt: 2025-02-03 17:45:53 -0500 (Mon, 03 Feb 2025) EndedAt: 2025-02-03 17:46:45 -0500 (Mon, 03 Feb 2025) EllapsedTime: 51.8 seconds RetCode: 0 Status: OK