Package: SingleCellExperiment Version: 1.28.1 Command: /home/biocbuild/R/R/bin/R CMD INSTALL SingleCellExperiment StartedAt: 2025-03-31 20:21:58 -0000 (Mon, 31 Mar 2025) EndedAt: 2025-03-31 20:22:31 -0000 (Mon, 31 Mar 2025) EllapsedTime: 33.2 seconds RetCode: 0 Status: OK