Package: SingleCellExperiment Version: 1.28.1 Command: F:\biocbuild\bbs-3.20-bioc\R\bin\R.exe CMD INSTALL SingleCellExperiment StartedAt: 2025-03-31 15:53:15 -0400 (Mon, 31 Mar 2025) EndedAt: 2025-03-31 15:58:53 -0400 (Mon, 31 Mar 2025) EllapsedTime: 338.9 seconds RetCode: 0 Status: OK