Package: SingleCellExperiment Version: 1.28.1 Command: chmod a+r SingleCellExperiment -R && F:\biocbuild\bbs-3.20-bioc\R\bin\R.exe CMD build --keep-empty-dirs --no-resave-data SingleCellExperiment StartedAt: 2025-03-31 21:58:46 -0400 (Mon, 31 Mar 2025) EndedAt: 2025-03-31 22:01:10 -0400 (Mon, 31 Mar 2025) EllapsedTime: 143.8 seconds RetCode: 0 Status: OK PackageFile: SingleCellExperiment_1.28.1.tar.gz PackageFileSize: 963 KiB