Package: SingleCellExperiment Version: 1.27.2 Command: chmod a+r SingleCellExperiment -R && F:\biocbuild\bbs-3.20-bioc\R\bin\R.exe CMD build --keep-empty-dirs --no-resave-data SingleCellExperiment StartedAt: 2024-06-09 22:24:27 -0400 (Sun, 09 Jun 2024) EndedAt: 2024-06-09 22:26:47 -0400 (Sun, 09 Jun 2024) EllapsedTime: 139.3 seconds RetCode: 0 Status: OK PackageFile: SingleCellExperiment_1.27.2.tar.gz PackageFileSize: 962.9 KiB