Package: SingleCellExperiment Version: 1.28.1 Command: /home/biocbuild/bbs-3.20-bioc/R/bin/R CMD check --install=check:SingleCellExperiment.install-out.txt --library=/home/biocbuild/bbs-3.20-bioc/R/site-library --timings SingleCellExperiment_1.28.1.tar.gz StartedAt: 2025-04-01 02:18:34 -0400 (Tue, 01 Apr 2025) EndedAt: 2025-04-01 02:22:50 -0400 (Tue, 01 Apr 2025) EllapsedTime: 256.2 seconds RetCode: 0 Status: OK CheckDir: SingleCellExperiment.Rcheck Warnings: 0