Package: SingleCellExperiment Version: 1.28.1 Command: /Library/Frameworks/R.framework/Resources/bin/R CMD INSTALL SingleCellExperiment StartedAt: 2025-01-27 15:22:54 -0500 (Mon, 27 Jan 2025) EndedAt: 2025-01-27 15:23:56 -0500 (Mon, 27 Jan 2025) EllapsedTime: 61.7 seconds RetCode: 0 Status: OK