Package: SingleCellAlleleExperiment Version: 1.2.0 Command: /home/biocbuild/R/R/bin/R CMD INSTALL SingleCellAlleleExperiment StartedAt: 2025-01-30 20:22:20 -0000 (Thu, 30 Jan 2025) EndedAt: 2025-01-30 20:22:49 -0000 (Thu, 30 Jan 2025) EllapsedTime: 28.4 seconds RetCode: 0 Status: OK