Package: SingleCellAlleleExperiment Version: 1.2.0 Command: /Library/Frameworks/R.framework/Resources/bin/R CMD build --keep-empty-dirs --no-resave-data SingleCellAlleleExperiment StartedAt: 2025-01-28 08:14:33 -0500 (Tue, 28 Jan 2025) EndedAt: 2025-01-28 08:22:38 -0500 (Tue, 28 Jan 2025) EllapsedTime: 485.1 seconds RetCode: 0 Status: OK PackageFile: SingleCellAlleleExperiment_1.2.0.tar.gz PackageFileSize: 2.252 MiB