Package: SimFFPE Version: 1.18.0 Command: /home/biocbuild/R/R/bin/R CMD check --install=check:SimFFPE.install-out.txt --library=/home/biocbuild/R/R/site-library --no-vignettes --timings SimFFPE_1.18.0.tar.gz StartedAt: 2025-01-31 10:28:26 -0000 (Fri, 31 Jan 2025) EndedAt: 2025-01-31 10:33:27 -0000 (Fri, 31 Jan 2025) EllapsedTime: 300.3 seconds RetCode: 0 Status: OK CheckDir: SimFFPE.Rcheck Warnings: 0