Package: SimBu Version: 1.8.0 Command: /home/biocbuild/R/R/bin/R CMD build --keep-empty-dirs --no-resave-data SimBu StartedAt: 2025-01-31 02:45:00 -0000 (Fri, 31 Jan 2025) EndedAt: 2025-01-31 02:45:48 -0000 (Fri, 31 Jan 2025) EllapsedTime: 48.1 seconds RetCode: 0 Status: OK PackageFile: SimBu_1.8.0.tar.gz PackageFileSize: 135.9 KiB