Package: SimBu Version: 1.8.0 Command: /Library/Frameworks/R.framework/Resources/bin/R CMD build --keep-empty-dirs --no-resave-data SimBu StartedAt: 2024-11-19 18:42:27 -0500 (Tue, 19 Nov 2024) EndedAt: 2024-11-19 18:43:23 -0500 (Tue, 19 Nov 2024) EllapsedTime: 55.9 seconds RetCode: 0 Status: OK PackageFile: SimBu_1.8.0.tar.gz PackageFileSize: 220.5 KiB