Package: SigFuge Version: 1.44.0 Command: /home/biocbuild/R/R/bin/R CMD build --keep-empty-dirs --no-resave-data SigFuge StartedAt: 2025-01-28 03:22:36 -0000 (Tue, 28 Jan 2025) EndedAt: 2025-01-28 03:23:49 -0000 (Tue, 28 Jan 2025) EllapsedTime: 73.0 seconds RetCode: 0 Status: OK PackageFile: SigFuge_1.44.0.tar.gz PackageFileSize: 1.446 MiB