Package: SigFuge Version: 1.44.0 Command: F:\biocbuild\bbs-3.20-bioc\R\bin\R.exe CMD check --no-multiarch --install=check:SigFuge.install-out.txt --library=F:\biocbuild\bbs-3.20-bioc\R\library --no-vignettes --timings SigFuge_1.44.0.tar.gz StartedAt: 2025-01-28 05:59:57 -0500 (Tue, 28 Jan 2025) EndedAt: 2025-01-28 06:02:13 -0500 (Tue, 28 Jan 2025) EllapsedTime: 135.6 seconds RetCode: 0 Status: OK CheckDir: SigFuge.Rcheck Warnings: 0