Package: SigFuge Version: 1.44.0 Command: rm -rf SigFuge.buildbin-libdir && mkdir SigFuge.buildbin-libdir && F:\biocbuild\bbs-3.20-bioc\R\bin\R.exe CMD INSTALL --build --library=SigFuge.buildbin-libdir SigFuge_1.44.0.tar.gz StartedAt: 2025-01-28 09:09:34 -0500 (Tue, 28 Jan 2025) EndedAt: 2025-01-28 09:09:54 -0500 (Tue, 28 Jan 2025) EllapsedTime: 19.5 seconds RetCode: 0 Status: OK PackageFile: SigFuge_1.44.0.zip PackageFileSize: 1.498 MiB