Package: SigCheck Version: 2.38.0 Command: /home/biocbuild/R/R/bin/R CMD INSTALL SigCheck StartedAt: 2025-02-10 20:54:03 -0000 (Mon, 10 Feb 2025) EndedAt: 2025-02-10 20:54:41 -0000 (Mon, 10 Feb 2025) EllapsedTime: 37.8 seconds RetCode: 0 Status: OK