Package: SigCheck Version: 2.38.0 Command: /home/biocbuild/R/R/bin/R CMD build --keep-empty-dirs --no-resave-data SigCheck StartedAt: 2025-02-04 02:59:44 -0000 (Tue, 04 Feb 2025) EndedAt: 2025-02-04 03:01:05 -0000 (Tue, 04 Feb 2025) EllapsedTime: 81.1 seconds RetCode: 0 Status: OK PackageFile: SigCheck_2.38.0.tar.gz PackageFileSize: 361 KiB