Package: SigCheck Version: 2.38.0 Command: /Library/Frameworks/R.framework/Resources/bin/R CMD INSTALL SigCheck StartedAt: 2025-03-31 16:13:54 -0400 (Mon, 31 Mar 2025) EndedAt: 2025-03-31 16:14:57 -0400 (Mon, 31 Mar 2025) EllapsedTime: 63.1 seconds RetCode: 0 Status: OK