Package: SigCheck Version: 2.38.0 Command: /Library/Frameworks/R.framework/Resources/bin/R CMD check --install=check:SigCheck.install-out.txt --library=/Library/Frameworks/R.framework/Resources/library --no-vignettes --timings SigCheck_2.38.0.tar.gz StartedAt: 2025-04-02 08:47:10 -0400 (Wed, 02 Apr 2025) EndedAt: 2025-04-02 08:55:28 -0400 (Wed, 02 Apr 2025) EllapsedTime: 498.0 seconds RetCode: 0 Status: OK CheckDir: SigCheck.Rcheck Warnings: 0