Package: SigCheck Version: 2.38.0 Command: /Library/Frameworks/R.framework/Resources/bin/R CMD build --keep-empty-dirs --no-resave-data SigCheck StartedAt: 2025-01-28 08:02:57 -0500 (Tue, 28 Jan 2025) EndedAt: 2025-01-28 08:04:13 -0500 (Tue, 28 Jan 2025) EllapsedTime: 76.8 seconds RetCode: 0 Status: OK PackageFile: SigCheck_2.38.0.tar.gz PackageFileSize: 369.6 KiB