Package: SiPSiC Version: 1.6.0 Command: /Library/Frameworks/R.framework/Resources/bin/R CMD build --keep-empty-dirs --no-resave-data SiPSiC StartedAt: 2025-02-03 22:26:10 -0500 (Mon, 03 Feb 2025) EndedAt: 2025-02-03 22:27:25 -0500 (Mon, 03 Feb 2025) EllapsedTime: 75.3 seconds RetCode: 0 Status: OK PackageFile: SiPSiC_1.6.0.tar.gz PackageFileSize: 236.8 KiB