Package: SiPSiC Version: 1.6.0 Command: /Library/Frameworks/R.framework/Resources/bin/R CMD INSTALL SiPSiC StartedAt: 2025-03-31 15:29:03 -0400 (Mon, 31 Mar 2025) EndedAt: 2025-03-31 15:29:29 -0400 (Mon, 31 Mar 2025) EllapsedTime: 25.9 seconds RetCode: 0 Status: OK