Package: SiPSiC Version: 1.6.0 Command: /Library/Frameworks/R.framework/Resources/bin/R CMD check --install=check:SiPSiC.install-out.txt --library=/Library/Frameworks/R.framework/Resources/library --no-vignettes --timings SiPSiC_1.6.0.tar.gz StartedAt: 2025-04-02 09:12:33 -0400 (Wed, 02 Apr 2025) EndedAt: 2025-04-02 09:15:22 -0400 (Wed, 02 Apr 2025) EllapsedTime: 169.1 seconds RetCode: 0 Status: OK CheckDir: SiPSiC.Rcheck Warnings: 0