Package: ShortRead Version: 1.64.0 Command: F:\biocbuild\bbs-3.20-bioc\R\bin\R.exe CMD check --no-multiarch --install=check:ShortRead.install-out.txt --library=F:\biocbuild\bbs-3.20-bioc\R\library --no-vignettes --timings ShortRead_1.64.0.tar.gz StartedAt: 2025-01-28 05:57:57 -0500 (Tue, 28 Jan 2025) EndedAt: 2025-01-28 06:08:00 -0500 (Tue, 28 Jan 2025) EllapsedTime: 602.7 seconds RetCode: 0 Status: WARNINGS CheckDir: ShortRead.Rcheck Warnings: 1