Package: ShortRead Version: 1.63.0 Command: chmod a+r ShortRead -R && F:\biocbuild\bbs-3.20-bioc\R\bin\R.exe CMD build --keep-empty-dirs --no-resave-data ShortRead StartedAt: 2024-06-09 22:19:59 -0400 (Sun, 09 Jun 2024) EndedAt: 2024-06-09 22:24:09 -0400 (Sun, 09 Jun 2024) EllapsedTime: 250.7 seconds RetCode: 0 Status: OK PackageFile: ShortRead_1.63.0.tar.gz PackageFileSize: 5.06 MiB