Package: ShortRead Version: 1.64.0 Command: /Library/Frameworks/R.framework/Resources/bin/R CMD INSTALL ShortRead StartedAt: 2025-02-03 15:43:55 -0500 (Mon, 03 Feb 2025) EndedAt: 2025-02-03 15:45:53 -0500 (Mon, 03 Feb 2025) EllapsedTime: 117.8 seconds RetCode: 0 Status: OK