Package: ShortRead Version: 1.64.0 Command: rm -rf ShortRead.buildbin-libdir && mkdir ShortRead.buildbin-libdir && /Users/biocbuild/BBS/utils/build-universal.sh ShortRead_1.64.0.tar.gz /Library/Frameworks/R.framework/Resources/bin/R ShortRead.buildbin-libdir StartedAt: 2025-04-02 16:20:36 -0400 (Wed, 02 Apr 2025) EndedAt: 2025-04-02 16:21:47 -0400 (Wed, 02 Apr 2025) EllapsedTime: 70.8 seconds RetCode: 0 Status: OK PackageFile: ShortRead_1.64.0.tgz PackageFileSize: 5.49 MiB